BEGIN:VCALENDAR
VERSION:2.0
PRODID:-//www.schulewangen-a-a.ch//NONSGML kigkonsult.se ICALCREATOR_VERSIO
 N//
CALSCALE:GREGORIAN
METHOD:PUBLISH
X-WR-TIMEZONE','EUROPE/BERLIN:
BEGIN:VEVENT
UID:20260421T034930CEST-89221U6TZR@www.schulewangen-a-a.ch
DTSTAMP:20260421T014930Z
DESCRIPTION:Klicken Sie auf den folgenden Link\, um weitere Informationen z
 ur Veranstaltung zu erhalten:\nhttp://www.schulewangen-a-a.ch/walliswil-bi
 pp/veranstaltungen/detail/detail.php?i=77
DTSTART:20241105T140000
DTEND:20241105T170000
LOCATION:Pfarreisaal der kath. Kirche Wangen a/A
SUMMARY:Zvierihöck Plus
END:VEVENT
END:VCALENDAR
