BEGIN:VCALENDAR
VERSION:2.0
PRODID:-//www.schulewangen-a-a.ch//NONSGML kigkonsult.se ICALCREATOR_VERSIO
 N//
CALSCALE:GREGORIAN
METHOD:PUBLISH
X-WR-TIMEZONE','EUROPE/BERLIN:
BEGIN:VEVENT
UID:20260421T035016CEST-9028B6Fo4J@www.schulewangen-a-a.ch
DTSTAMP:20260421T015016Z
DESCRIPTION:Klicken Sie auf den folgenden Link\, um weitere Informationen z
 ur Veranstaltung zu erhalten:\nhttp://www.schulewangen-a-a.ch/walliswil-bi
 pp/veranstaltungen/detail/detail.php?i=78
DTSTART:20241211T183000
DTEND:20241211T210000
LOCATION:Salzhaus
SUMMARY:Projekt A1 Luterbach-Härkingen - Informationsanlass
END:VEVENT
END:VCALENDAR
